BEGIN:VCALENDAR
VERSION:2.0
PRODID:-//mySJC Dashboard - ECPv6.15.20//NONSGML v1.0//EN
CALSCALE:GREGORIAN
METHOD:PUBLISH
X-WR-CALNAME:mySJC Dashboard
X-ORIGINAL-URL:https://my.sjcme.edu
X-WR-CALDESC:Events for mySJC Dashboard
REFRESH-INTERVAL;VALUE=DURATION:PT1H
X-Robots-Tag:noindex
X-PUBLISHED-TTL:PT1H
BEGIN:VTIMEZONE
TZID:America/New_York
BEGIN:DAYLIGHT
TZOFFSETFROM:-0500
TZOFFSETTO:-0400
TZNAME:EDT
DTSTART:20250309T070000
END:DAYLIGHT
BEGIN:STANDARD
TZOFFSETFROM:-0400
TZOFFSETTO:-0500
TZNAME:EST
DTSTART:20251102T060000
END:STANDARD
BEGIN:DAYLIGHT
TZOFFSETFROM:-0500
TZOFFSETTO:-0400
TZNAME:EDT
DTSTART:20260308T070000
END:DAYLIGHT
BEGIN:STANDARD
TZOFFSETFROM:-0400
TZOFFSETTO:-0500
TZNAME:EST
DTSTART:20261101T060000
END:STANDARD
BEGIN:DAYLIGHT
TZOFFSETFROM:-0500
TZOFFSETTO:-0400
TZNAME:EDT
DTSTART:20270314T070000
END:DAYLIGHT
BEGIN:STANDARD
TZOFFSETFROM:-0400
TZOFFSETTO:-0500
TZNAME:EST
DTSTART:20271107T060000
END:STANDARD
END:VTIMEZONE
BEGIN:VEVENT
DTSTART;TZID=America/New_York:20260323T183000
DTEND;TZID=America/New_York:20260323T193000
DTSTAMP:20260424T064348
CREATED:20260108T233204Z
LAST-MODIFIED:20260323T230606Z
UID:103453-1774290600-1774294200@my.sjcme.edu
SUMMARY:Deb's Dance Fitness (Deb)
DESCRIPTION:Please sign up at www.picktime.com/alfondcenter  \nDeb’s Dance is a fun\, high-energy dance fitness class that targets your balance\, core\, legs\, and arms! \nYou will use the yellow group fitness punch card for this class or a drop in is $7. (SJC staff/faculty/students are free.)
URL:https://my.sjcme.edu/event/debs-dance-fitness-deb-20/
LOCATION:Dance Room
END:VEVENT
BEGIN:VEVENT
DTSTART;TZID=America/New_York:20260323T100000
DTEND;TZID=America/New_York:20260323T104500
DTSTAMP:20260424T064348
CREATED:20260108T233204Z
LAST-MODIFIED:20260322T230552Z
UID:103452-1774260000-1774262700@my.sjcme.edu
SUMMARY:Chair Yoga (Theresa)
DESCRIPTION:Please sign up at www.picktime.com/alfondcenter  \nChair yoga is a gentle\, accessible form of yoga that modifies traditional poses using a chair for support.  This class is great for anyone who finds floor yoga challenging while offering benefits like improved flexibility\, strength\, balance\, circulation\, and mental well-being through adapted poses\, breathwork\, and mindfulness. \nYou will use the yellow group fitness punch card for this class or a drop in is $7. (SJC staff/faculty/students are free.)
URL:https://my.sjcme.edu/event/chair-yoga-theresa-10/
LOCATION:Dance Room
END:VEVENT
BEGIN:VEVENT
DTSTART;TZID=America/New_York:20260323T090000
DTEND;TZID=America/New_York:20260323T094500
DTSTAMP:20260424T064348
CREATED:20260108T233147Z
LAST-MODIFIED:20260322T230552Z
UID:103451-1774256400-1774259100@my.sjcme.edu
SUMMARY:SilverSneakers Circuit (Theresa)
DESCRIPTION:Please sign up at www.picktime.com/alfondcenter  \nExperience standing\, low-impact choreography alternated with standing upperbody strength work.  Equipment used will be hand weights\, resistance band and a ball. \nYou will scan your SilverSneakers members ID card\, use the gray SilverSneakers punch card for this class or drop in for $7. (SJC staff/faculty/students are free.)
URL:https://my.sjcme.edu/event/silversneakers-circuit-theresa-10/
LOCATION:Dance Room
END:VEVENT
BEGIN:VEVENT
DTSTART;TZID=America/New_York:20260323T080000
DTEND;TZID=America/New_York:20260323T084500
DTSTAMP:20260424T064348
CREATED:20260108T233146Z
LAST-MODIFIED:20260322T230552Z
UID:103450-1774252800-1774255500@my.sjcme.edu
SUMMARY:SilverSneakers Splash (Theresa)
DESCRIPTION:Please sign up at www.picktime.com/alfondcenter\nSilverSneakers Splash is a fun\, low-impact\, shallow-water fitness class designed for seniors (and all skill levels) that uses aquatic gear for a full-body workout\, improving strength\, balance\, flexibility\, and endurance without needing to swim\, making it gentle on joints.\nYou will scan your SilverSneakers members ID card\, use the gray SilverSneakers punch card for this class or drop in for $7. (SJC staff/faculty/students are free.)
URL:https://my.sjcme.edu/event/silversneakers-splash-theresa-10/
LOCATION:Pool
END:VEVENT
BEGIN:VEVENT
DTSTART;TZID=America/New_York:20260322T200000
DTEND;TZID=America/New_York:20260322T210000
DTSTAMP:20260424T064348
CREATED:20251223T142154Z
LAST-MODIFIED:20260322T220542Z
UID:102808-1774209600-1774213200@my.sjcme.edu
SUMMARY:Mass
DESCRIPTION:
URL:https://my.sjcme.edu/event/mass-222/
LOCATION:Healy Chapel
CATEGORIES:Campus Life Events
END:VEVENT
BEGIN:VEVENT
DTSTART;TZID=America/New_York:20260321T180000
DTEND;TZID=America/New_York:20260321T213000
DTSTAMP:20260424T064348
CREATED:20260319T172040Z
LAST-MODIFIED:20260321T215125Z
UID:105834-1774116000-1774128600@my.sjcme.edu
SUMMARY:Food Pickup at Amato's (6:15pm) + Social Media at Show
DESCRIPTION:Join with Google Meet: https://meet.google.com/xyg-vgsy-ejf\nOr dial: (US) +1 786-886-2623 PIN: 842524714#\nLearn more about Meet at: https://support.google.com/a/users/answer/9282720
URL:https://my.sjcme.edu/event/food-pickup-at-amatos-615pm-social-media-at-show/
CATEGORIES:Campus Life Events
END:VEVENT
BEGIN:VEVENT
DTSTART;TZID=America/New_York:20260321T170000
DTEND;TZID=America/New_York:20260321T213000
DTSTAMP:20260424T064348
CREATED:20260319T172040Z
LAST-MODIFIED:20260321T215125Z
UID:105833-1774112400-1774128600@my.sjcme.edu
SUMMARY:Murder Mystery Dinner Cast
DESCRIPTION:Join with Google Meet: https://meet.google.com/apg-mqxc-yfm\nOr dial: (US) +1 502-518-3490 PIN: 507144138#\nLearn more about Meet at: https://support.google.com/a/users/answer/9282720
URL:https://my.sjcme.edu/event/murder-mystery-dinner-cast/
CATEGORIES:Campus Life Events
END:VEVENT
BEGIN:VEVENT
DTSTART;TZID=America/New_York:20260320T150000
DTEND;TZID=America/New_York:20260320T160000
DTSTAMP:20260424T064348
CREATED:20260316T145045Z
LAST-MODIFIED:20260319T205040Z
UID:105729-1774018800-1774022400@my.sjcme.edu
SUMMARY:Down Syndrome Awareness Panel
DESCRIPTION:The Disability Advocacy Club and ACE present: Down Syndrome Awareness Panel!  \nJoin us on Friday\, March 20 from 3pm to 4pm in the Viola George Auditorium to hear from our amazing guest speakers in honor of World Down Syndrome Day! \nVideo call link: https://meet.google.com/kdf-cqad-vhoOr dial: +1 315-646-8186 PIN: 781013885
URL:https://my.sjcme.edu/event/down-syndrome-awareness-panel/
LOCATION:Viola George Auditorium
CATEGORIES:Academics Events
END:VEVENT
BEGIN:VEVENT
DTSTART;TZID=America/New_York:20260320T113000
DTEND;TZID=America/New_York:20260320T130000
DTSTAMP:20260424T064348
CREATED:20251220T133652Z
LAST-MODIFIED:20260319T143543Z
UID:102734-1774006200-1774011600@my.sjcme.edu
SUMMARY:IIA Lunch Gathering in Pearson's Cafe
DESCRIPTION:
URL:https://my.sjcme.edu/event/iia-lunch-gathering-in-pearsons-cafe-185/
CATEGORIES:Institute for Integrative Aging
END:VEVENT
BEGIN:VEVENT
DTSTART;TZID=America/New_York:20260320T100000
DTEND;TZID=America/New_York:20260320T104500
DTSTAMP:20260424T064348
CREATED:20260108T233146Z
LAST-MODIFIED:20260318T230543Z
UID:103449-1774000800-1774003500@my.sjcme.edu
SUMMARY:SilverSneakers Splash (Jenna)
DESCRIPTION:Please sign up at www.picktime.com/alfondcenter   \nSilverSneakers Splash is a fun\, low-impact\, shallow-water fitness class designed for seniors (and all skill levels) that uses aquatic gear for a full-body workout\, improving strength\, balance\, flexibility\, and endurance without needing to swim\, making it gentle on joints. \nYou will scan your SilverSneakers members ID card\, use the gray SilverSneakers punch card for this class or drop in for $7. (SJC staff/faculty/students are free.)
URL:https://my.sjcme.edu/event/silversneakers-splash-jenna-20/
LOCATION:Pool
END:VEVENT
BEGIN:VEVENT
DTSTART;TZID=America/New_York:20260320T090000
DTEND;TZID=America/New_York:20260320T094500
DTSTAMP:20260424T064348
CREATED:20260108T233146Z
LAST-MODIFIED:20260318T230543Z
UID:103448-1773997200-1773999900@my.sjcme.edu
SUMMARY:SilverSneakers Muscle (Jenna)
DESCRIPTION:Please sign up at www.picktime.com/alfondcenter \nThis incorporated athletic exercises that boost overall fitness and improve strength through muscle conditioning and drills. \nYou will scan your SilverSneakers members ID card\, use the gray SilverSneakers punch card for this class or drop in for $7. (SJC staff/faculty/students are free.)
URL:https://my.sjcme.edu/event/silversneakers-muscle-jenna-10/
LOCATION:Dance Room
END:VEVENT
BEGIN:VEVENT
DTSTART;TZID=America/New_York:20260320T080000
DTEND;TZID=America/New_York:20260320T084500
DTSTAMP:20260424T064348
CREATED:20260108T233146Z
LAST-MODIFIED:20260121T001348Z
UID:103447-1773993600-1773996300@my.sjcme.edu
SUMMARY:Aqua Fitness (Jenna)
DESCRIPTION:Please sign up at www.picktime.com/alfondcenter   \nOur instructors guide participants through aerobic movements that target the entire body by using the natural resistance of water\, water weights and noodles. Participants work to their ability\, and may choose to work on range of motion and flexibility as well as cardio and strength by performing movements suggested by the instructor. \nYou will use the blue aquatic fitness punch card for this class or a drop in is $7. (SJC staff/faculty/students are free.)
URL:https://my.sjcme.edu/event/aqua-fitness-jenna-10/
LOCATION:Pool
END:VEVENT
BEGIN:VEVENT
DTSTART;TZID=America/New_York:20260319T170000
DTEND;TZID=America/New_York:20260319T174500
DTSTAMP:20260424T064348
CREATED:20260108T233121Z
LAST-MODIFIED:20260115T235535Z
UID:103446-1773939600-1773942300@my.sjcme.edu
SUMMARY:Pedal + Pilates (Sarah+Eliese)
DESCRIPTION:Please sign up at www.picktime.com/alfondcenter   \n30 minutes of Rhythm Ride with Sarah followed by 30 minutes of Pilates with Eliese! \nYou will use the yellow group fitness punch card for this class or a drop in is $7. (SJC staff/faculty/students are free.)
URL:https://my.sjcme.edu/event/pedal-pilates-saraheliese-10/
LOCATION:Dance Room
END:VEVENT
BEGIN:VEVENT
DTSTART;TZID=America/New_York:20260319T150000
DTEND;TZID=America/New_York:20260319T154500
DTSTAMP:20260424T064348
CREATED:20260306T170610Z
LAST-MODIFIED:20260319T172039Z
UID:105392-1773932400-1773935100@my.sjcme.edu
SUMMARY:Event Planning Group
DESCRIPTION:Join with Google Meet: https://meet.google.com/byi-cbsm-foo\nOr dial: (US) +1 219-321-0043 PIN: 196525560#\nLearn more about Meet at: https://support.google.com/a/users/answer/9282720
URL:https://my.sjcme.edu/event/event-planning-group-8/
LOCATION:Student Engagement Office
CATEGORIES:Campus Life Events
END:VEVENT
BEGIN:VEVENT
DTSTART;TZID=America/New_York:20260319T150000
DTEND;TZID=America/New_York:20260319T154500
DTSTAMP:20260424T064348
CREATED:20260306T170610Z
LAST-MODIFIED:20260318T172108Z
UID:105393-1773932400-1773935100@my.sjcme.edu
SUMMARY:Event Planning Group
DESCRIPTION:Join with Google Meet: https://meet.google.com/byi-cbsm-foo\nOr dial: (US) +1 219-321-0043 PIN: 196525560#\nLearn more about Meet at: https://support.google.com/a/users/answer/9282720
URL:https://my.sjcme.edu/event/event-planning-group-9/
LOCATION:Student Engagement Office
CATEGORIES:Campus Life Events
END:VEVENT
BEGIN:VEVENT
DTSTART;TZID=America/New_York:20260319T150000
DTEND;TZID=America/New_York:20260319T154500
DTSTAMP:20260424T064348
CREATED:20260211T155045Z
LAST-MODIFIED:20260305T170550Z
UID:104821-1773932400-1773935100@my.sjcme.edu
SUMMARY:Event Planning Group
DESCRIPTION:Join with Google Meet: https://meet.google.com/byi-cbsm-foo\nOr dial: (US) +1 219-321-0043 PIN: 196525560#\nLearn more about Meet at: https://support.google.com/a/users/answer/9282720
URL:https://my.sjcme.edu/event/event-planning-group-3/
LOCATION:Student Engagement Office
CATEGORIES:Campus Life Events
END:VEVENT
BEGIN:VEVENT
DTSTART;TZID=America/New_York:20260319T120000
DTEND;TZID=America/New_York:20260319T124500
DTSTAMP:20260424T064348
CREATED:20260127T231127Z
LAST-MODIFIED:20260318T230543Z
UID:104377-1773921600-1773924300@my.sjcme.edu
SUMMARY:Rhythm Ride (Holly)
DESCRIPTION:Please sign up at www.picktime.com/alfondcenter   \nRide to the beat of fast paced energetic music while moving around your bike. Rhythm Ride includes weights\, heavy climbs\, choreography\, and more surprises!   \nYou will use the yellow group fitness punch card for this class or a drop in is $7. (SJC staff/faculty/students are free.)
URL:https://my.sjcme.edu/event/rhythm-ride-holly-9/
LOCATION:Dance Room
END:VEVENT
BEGIN:VEVENT
DTSTART;TZID=America/New_York:20260319T120000
DTEND;TZID=America/New_York:20260319T124500
DTSTAMP:20260424T064348
CREATED:20260108T233121Z
LAST-MODIFIED:20260318T230543Z
UID:103445-1773921600-1773924300@my.sjcme.edu
SUMMARY:Back on Track (Jenna)
DESCRIPTION:Please sign up at www.picktime.com/alfondcenter   \nThis class is FREE and open to anyone.  Individuals will go at their own pace around the track and then do a strength or core exercise after each lap.  This is great for all levels and abilities.
URL:https://my.sjcme.edu/event/back-on-track-jenna-10/
LOCATION:Indoor Track
END:VEVENT
BEGIN:VEVENT
DTSTART;TZID=America/New_York:20260319T090000
DTEND;TZID=America/New_York:20260319T094500
DTSTAMP:20260424T064348
CREATED:20260108T233120Z
LAST-MODIFIED:20260318T230541Z
UID:103443-1773910800-1773913500@my.sjcme.edu
SUMMARY:Deep Water Aqua Fitness (Becky)
DESCRIPTION:Please sign up at www.picktime.com/alfondcenter   \nParticipants wear a floatation belt (provided) in the deep end for a safe and effective non-weight bearing workout that is easy on joints. Promotes cardiovascular conditioning while improving strength\, flexibility and muscle tone. Participants are encouraged to work at their own level.  \nYou will use the blue aquatic fitness punch card for this class or a drop in is $7. (SJC staff/faculty/students are free.)
URL:https://my.sjcme.edu/event/deep-water-aqua-fitness-becky-20/
LOCATION:Pool
END:VEVENT
BEGIN:VEVENT
DTSTART;TZID=America/New_York:20260319T090000
DTEND;TZID=America/New_York:20260319T094500
DTSTAMP:20260424T064348
CREATED:20260108T233120Z
LAST-MODIFIED:20260318T230541Z
UID:103444-1773910800-1773913500@my.sjcme.edu
SUMMARY:SilverSneakers Chair Yoga
DESCRIPTION:Please sign up at www.picktime.com/alfondcenter   \nA gentle\, accessible yoga\, using a chair for support in seated and standing poses to improve balance\, flexibility\, strength and relaxation. \nYou will scan your SilverSneakers members ID card\, use the gray SilverSneakers punch card for this class or drop in for $7. (SJC staff/faculty/students are free.)
URL:https://my.sjcme.edu/event/silversneakers-chair-yoga-10/
LOCATION:Dance Room
END:VEVENT
BEGIN:VEVENT
DTSTART;TZID=America/New_York:20260319T080000
DTEND;TZID=America/New_York:20260319T084500
DTSTAMP:20260424T064348
CREATED:20260108T233120Z
LAST-MODIFIED:20260318T230541Z
UID:103442-1773907200-1773909900@my.sjcme.edu
SUMMARY:SilverSneakers Splash (Becky)
DESCRIPTION:Please sign up at www.picktime.com/alfondcenter   \nSilverSneakers Splash is a fun\, low-impact\, shallow-water fitness class designed for seniors (and all skill levels) that uses aquatic gear for a full-body workout\, improving strength\, balance\, flexibility\, and endurance without needing to swim\, making it gentle on joints. \nYou will scan your SilverSneakers members ID card\, use the gray SilverSneakers punch card for this class or drop in for $7. (SJC staff/faculty/students are free.)
URL:https://my.sjcme.edu/event/silversneakers-splash-becky-20/
LOCATION:Pool
END:VEVENT
BEGIN:VEVENT
DTSTART;TZID=America/New_York:20260319T080000
DTEND;TZID=America/New_York:20260319T084500
DTSTAMP:20260424T064348
CREATED:20260108T233057Z
LAST-MODIFIED:20260318T230541Z
UID:103441-1773907200-1773909900@my.sjcme.edu
SUMMARY:Cardio Fitness (Theresa)
DESCRIPTION:Please sign up at www.picktime.com/alfondcenter   \nCardio fitness will focus on rhythmic movement\, range of motion and flexibility.  Get ready to move and increase your aerobic fitness! \nYou will use the yellow group fitness punch card for this class or a drop in is $7. (SJC staff/faculty/students are free.)
URL:https://my.sjcme.edu/event/cardio-fitness-theresa-10/
LOCATION:Dance Room
END:VEVENT
BEGIN:VEVENT
DTSTART;TZID=America/New_York:20260318T183000
DTEND;TZID=America/New_York:20260318T193000
DTSTAMP:20260424T064348
CREATED:20260108T233057Z
LAST-MODIFIED:20260318T230541Z
UID:103440-1773858600-1773862200@my.sjcme.edu
SUMMARY:Deb's Dance Fitness (Deb)
DESCRIPTION:Please sign up at www.picktime.com/alfondcenter  \nDeb’s Dance is a fun\, high-energy dance fitness class that targets your balance\, core\, legs\, and arms! \nYou will use the yellow group fitness punch card for this class or a drop in is $7. (SJC staff/faculty/students are free.)
URL:https://my.sjcme.edu/event/debs-dance-fitness-deb-19/
LOCATION:Dance Room
END:VEVENT
BEGIN:VEVENT
DTSTART;TZID=America/New_York:20260318T173000
DTEND;TZID=America/New_York:20260318T181500
DTSTAMP:20260424T064348
CREATED:20260108T233057Z
LAST-MODIFIED:20260317T230552Z
UID:103439-1773855000-1773857700@my.sjcme.edu
SUMMARY:Human Reformer Pilates (Hilary)
DESCRIPTION:Please sign up at www.picktime.com/alfondcenter   \nHuman Reformer Pilates is a mat-based method that mimics traditional Pilates reformer workouts using resistance bands (like "Flex Kords") and your own body to create spring-like tension\, building core strength\, flexibility\, and control without the expensive\, bulky machine.Mats and Flex Kords are provided for you.   \nYou will use the yellow group fitness punch card for this class or a drop in is $7. (SJC staff/faculty/students are free.)
URL:https://my.sjcme.edu/event/human-reformer-pilates-hilary-10/
LOCATION:Dance Room
END:VEVENT
BEGIN:VEVENT
DTSTART;TZID=America/New_York:20260318T163000
DTEND;TZID=America/New_York:20260318T171500
DTSTAMP:20260424T064348
CREATED:20260108T233057Z
LAST-MODIFIED:20260317T230552Z
UID:103438-1773851400-1773854100@my.sjcme.edu
SUMMARY:Rhythm Ride (Michael)
DESCRIPTION:Please sign up at www.picktime.com/alfondcenter   \nRide to the beat of fast paced energetic music while moving around your bike. Rhythm Ride includes weights\, heavy climbs\, choreography\, and more surprises!   \nYou will use the yellow group fitness punch card for this class or a drop in is $7. (SJC staff/faculty/students are free.)
URL:https://my.sjcme.edu/event/rhythm-ride-michael-10/
LOCATION:Dance Room
END:VEVENT
BEGIN:VEVENT
DTSTART;TZID=America/New_York:20260318T121500
DTEND;TZID=America/New_York:20260318T130000
DTSTAMP:20260424T064348
CREATED:20260108T233057Z
LAST-MODIFIED:20260317T230552Z
UID:103437-1773836100-1773838800@my.sjcme.edu
SUMMARY:Cardio\, Core and More (Jenna)
DESCRIPTION:Please sign up at www.picktime.com/alfondcenter  \nThis "bootcamp" style workout will incorporate cardio and strength training to give you a well balanced total body workout.  Different fitness equipment will be used in circuit style formats with modifications for all fitness levels.   \nYou will use the yellow group fitness punch card for this class or a drop in is $7. (SJC staff/faculty/students are free.)
URL:https://my.sjcme.edu/event/cardio-core-and-more-jenna-10/
LOCATION:Dance Room
END:VEVENT
BEGIN:VEVENT
DTSTART;TZID=America/New_York:20260318T080000
DTEND;TZID=America/New_York:20260318T084500
DTSTAMP:20260424T064348
CREATED:20260108T233038Z
LAST-MODIFIED:20260317T230552Z
UID:103436-1773820800-1773823500@my.sjcme.edu
SUMMARY:SilverSneakers Splash (Jenna)
DESCRIPTION:Please sign up at www.picktime.com/alfondcenter   \nSilverSneakers Splash is a fun\, low-impact\, shallow-water fitness class designed for seniors (and all skill levels) that uses aquatic gear for a full-body workout\, improving strength\, balance\, flexibility\, and endurance without needing to swim\, making it gentle on joints. \nYou will scan your SilverSneakers members ID card\, use the gray SilverSneakers punch card for this class or drop in for $7. (SJC staff/faculty/students are free.)
URL:https://my.sjcme.edu/event/silversneakers-splash-jenna-19/
LOCATION:Pool
END:VEVENT
BEGIN:VEVENT
DTSTART;TZID=America/New_York:20260317T183000
DTEND;TZID=America/New_York:20260317T191500
DTSTAMP:20260424T064348
CREATED:20260108T233038Z
LAST-MODIFIED:20260317T230552Z
UID:103435-1773772200-1773774900@my.sjcme.edu
SUMMARY:Line Dancing (Kenzie)
DESCRIPTION:****This class is for SJC members only!******Please sign up at www.picktime.com/alfondcenter
URL:https://my.sjcme.edu/event/line-dancing-kenzie-10/
LOCATION:Dance Room
END:VEVENT
BEGIN:VEVENT
DTSTART;TZID=America/New_York:20260317T150000
DTEND;TZID=America/New_York:20260317T163000
DTSTAMP:20260424T064348
CREATED:20260305T153649Z
LAST-MODIFIED:20260317T153540Z
UID:105366-1773759600-1773765000@my.sjcme.edu
SUMMARY:President's Community Forum for Faculty & Staff
DESCRIPTION:Contact Laura Sullivan in the President's Office for information:\nEmail: lsullivan@sjcme.edu\nPhone: (207) 893-7711
URL:https://my.sjcme.edu/event/presidents-community-forum-for-faculty-staff-4/
END:VEVENT
BEGIN:VEVENT
DTSTART;TZID=America/New_York:20260317T120000
DTEND;TZID=America/New_York:20260317T124500
DTSTAMP:20260424T064348
CREATED:20260127T231116Z
LAST-MODIFIED:20260316T230544Z
UID:104376-1773748800-1773751500@my.sjcme.edu
SUMMARY:Mindful Movements (Jenna)
DESCRIPTION:Please sign up at www.picktime.com/alfondcenter   \nThis class is FREE and open to anyone.  This class will focus on movement\, breath and mobility work.  Each class will start with a guided imagery\, breathwork and then go into gentle stretching.  Please dress in comfortable clothing.\nJoin with Google Meet: https://meet.google.com/gjg-fpmf-fnh\nOr dial: (US) +1 401-552-4937 PIN: 385955352#\nLearn more about Meet at: https://support.google.com/a/users/answer/9282720
URL:https://my.sjcme.edu/event/mindful-movements-jenna-22/
LOCATION:Dance Room
END:VEVENT
END:VCALENDAR